BEGIN:VCALENDAR
VERSION:2.0
PRODID:EVENTFROG//EVENT//ICAL
BEGIN:VEVENT
UID:20260420T031718Z-7450931324443981460@eventfrog.ch
DTSTAMP:20260420T031718Z
DTSTART:20260425T200000Z
DTEND:20260426T040000Z
SUMMARY:Gamenight Afterparty
DESCRIPTION:Come by to expirience some authentic underground vibe Techno and let your soul groove away from planet earth.\n\nhttps://eventfrog.ch/de/p/partys/house-techno/gamenight-afterparty-7450931324443981460.html
LOCATION:QZ Gutschick-Mattenbach
GEO:47.493174;8.750034
URL:https://eventfrog.ch/de/p/partys/house-techno/gamenight-afterparty-7450931324443981460.html
END:VEVENT
END:VCALENDAR