BEGIN:VCALENDAR
VERSION:2.0
PRODID:EVENTFROG//EVENT//ICAL
BEGIN:VEVENT
UID:20260424T075632Z-7450993260384758188@eventfrog.ch
DTSTAMP:20260424T075632Z
DTSTART:20260509T163000Z
DTEND:20260509T183000Z
SUMMARY:Raising multilingual Kids: Beyond the Myths
DESCRIPTION:A clear, practical introduction to raising multilingual children with confidence, without pressure or rigid rules.\n\nhttps://eventfrog.ch/fr/p/cours-seminaires/langues/raising-multilingual-kids-beyond-the-myths-7450993260384758188.html
LOCATION:Im Gubelhof
GEO:47.409285;8.542113
URL:https://eventfrog.ch/fr/p/cours-seminaires/langues/raising-multilingual-kids-beyond-the-myths-7450993260384758188.html
END:VEVENT
END:VCALENDAR