BEGIN:VCALENDAR
VERSION:2.0
PRODID:EVENTFROG//EVENT//ICAL
BEGIN:VEVENT
UID:20260424T065729Z-7451012505676073851@eventfrog.ch
DTSTAMP:20260424T065729Z
DTSTART:20261017T170000Z
DTEND:20261017T210000Z
SUMMARY:Fondue-Essen
DESCRIPTION:Fondue-Essen - Anmeldung via Verein Freunde Schloss Wartenfels\n\nhttps://eventfrog.ch/de/p/essen-trinken/fondue-essen-7451012505676073851.html
LOCATION:Schloss Wartenfels
GEO:47.390063;7.933937
URL:https://eventfrog.ch/de/p/essen-trinken/fondue-essen-7451012505676073851.html
END:VEVENT
END:VCALENDAR