BEGIN:VCALENDAR
VERSION:2.0
PRODID:EVENTFROG//EVENT//ICAL
BEGIN:VEVENT
UID:20260420T012016Z-7451021929501165323@eventfrog.ch
DTSTAMP:20260420T012016Z
DTSTART:20260602T220000Z
DTEND:20260603T215900Z
SUMMARY:Rundgang mit der Kuratorin
DESCRIPTION:Eine Führung mit KURATOR*IN Kim Anni Bassen durch MINERVA II\n\nhttps://eventfrog.ch/de/p/kunst-ausstellungen/rundgang-mit-der-kuratorin-7451021929501165323.html
LOCATION:Alte Fabrik
GEO:47.233650;8.824440
URL:https://eventfrog.ch/de/p/kunst-ausstellungen/rundgang-mit-der-kuratorin-7451021929501165323.html
END:VEVENT
END:VCALENDAR