BEGIN:VCALENDAR
VERSION:2.0
PRODID:EVENTFROG//EVENT//ICAL
BEGIN:VEVENT
UID:20260425T194329Z-7451027451264631525@eventfrog.ch
DTSTAMP:20260425T194329Z
DTSTART:20260509T180000Z
DTEND:20260509T230100Z
SUMMARY:Astio + FiveBucks + Poo Poo Talks (3x IT)
DESCRIPTION:Astio + FiveBucks + Poo Poo Talks (3x IT)\n\nhttps://eventfrog.ch/de/p/konzerte/astio-fivebucks-poo-poo-talks-3x-it-7451027451264631525.html
LOCATION:Horstklub
GEO:47.647355;9.173559
URL:https://eventfrog.ch/de/p/konzerte/astio-fivebucks-poo-poo-talks-3x-it-7451027451264631525.html
END:VEVENT
END:VCALENDAR