BEGIN:VCALENDAR
VERSION:2.0
PRODID:EVENTFROG//EVENT//ICAL
BEGIN:VEVENT
UID:20260425T192542Z-7451029337355109566@eventfrog.ch
DTSTAMP:20260425T192542Z
DTSTART:20260523T160000Z
SUMMARY:Flowza
DESCRIPTION:Flowza\n\nhttps://eventfrog.ch/de/p/konzerte/flowza-7451029337355109566.html
LOCATION:Konstanz Konzertmuschel
GEO:47.662669;9.179241
URL:https://eventfrog.ch/de/p/konzerte/flowza-7451029337355109566.html
END:VEVENT
END:VCALENDAR