BEGIN:VCALENDAR
VERSION:2.0
PRODID:EVENTFROG//EVENT//ICAL
BEGIN:VEVENT
UID:20260425T193810Z-7451029337699042498@eventfrog.ch
DTSTAMP:20260425T193810Z
DTSTART:20260523T183000Z
SUMMARY:Choose the Juice
DESCRIPTION:Choose the Juice\n\nhttps://eventfrog.ch/de/p/konzerte/choose-the-juice-7451029337699042498.html
LOCATION:Konstanz Konzertmuschel
GEO:47.662669;9.179241
URL:https://eventfrog.ch/de/p/konzerte/choose-the-juice-7451029337699042498.html
END:VEVENT
END:VCALENDAR