BEGIN:VCALENDAR
VERSION:2.0
PRODID:EVENTFROG//EVENT//ICAL
BEGIN:VEVENT
UID:20260425T194336Z-7451029338961528282@eventfrog.ch
DTSTAMP:20260425T194336Z
DTSTART:20260516T120000Z
SUMMARY:Xlinger Brauifest - 10 Jahre Xlinger
DESCRIPTION:Xlinger Brauifest - 10 Jahre Xlinger\n\nhttps://eventfrog.ch/de/p/konzerte/xlinger-brauifest-10-jahre-xlinger-7451029338961528282.html
LOCATION:Xlinger Brauerei
GEO:47.650473;9.180206
URL:https://eventfrog.ch/de/p/konzerte/xlinger-brauifest-10-jahre-xlinger-7451029338961528282.html
END:VEVENT
END:VCALENDAR