BEGIN:VCALENDAR
VERSION:2.0
PRODID:EVENTFROG//EVENT//ICAL
BEGIN:VEVENT
UID:20260419T155225Z-7451029340370814648@eventfrog.ch
DTSTAMP:20260419T155225Z
DTSTART:20260507T170000Z
DTEND:20260507T180000Z
SUMMARY:Lesung von und mit Richard Böck -        Bis er anfing, sich
DESCRIPTION:"Bis er anfing, sich zu wehren"\n\nhttps://eventfrog.ch/de/p/theater-buehne/lesung-von-und-mit-richard-boeck-bis-er-anfing-sich-7451029340370814648.html
LOCATION:Stadtbibliothek Wil
GEO:47.467682;9.050218
URL:https://eventfrog.ch/de/p/theater-buehne/lesung-von-und-mit-richard-boeck-bis-er-anfing-sich-7451029340370814648.html
END:VEVENT
END:VCALENDAR