BEGIN:VCALENDAR
VERSION:2.0
PRODID:EVENTFROG//EVENT//ICAL
BEGIN:VEVENT
UID:20260424T064916Z-7451030597248538528@eventfrog.ch
DTSTAMP:20260424T064916Z
DTSTART:20260509T183000Z
DTEND:20260509T203000Z
SUMMARY:Against The Machine
DESCRIPTION:A Tribute to Rage Against The Machine\n\nhttps://eventfrog.ch/de/p/konzerte/pop-rock/against-the-machine-7451030597248538528.html
LOCATION:Bären Buchsi
GEO:47.021500;7.450800
URL:https://eventfrog.ch/de/p/konzerte/pop-rock/against-the-machine-7451030597248538528.html
END:VEVENT
END:VCALENDAR