BEGIN:VCALENDAR
VERSION:2.0
PRODID:EVENTFROG//EVENT//ICAL
BEGIN:VEVENT
UID:20260424T134557Z-7451031668532501529@eventfrog.ch
DTSTAMP:20260424T134557Z
DTSTART:20260518T071500Z
DTEND:20260518T091500Z
SUMMARY:ElternCafé
DESCRIPTION:Spielen, austauschen, gemütliches Zusammensein\n\nhttps://eventfrog.ch/de/p/diverses/elterncafe-7451031668532501529.html
LOCATION:tiRumpel
GEO:47.420944;9.356495
URL:https://eventfrog.ch/de/p/diverses/elterncafe-7451031668532501529.html
END:VEVENT
END:VCALENDAR