BEGIN:VCALENDAR
VERSION:2.0
PRODID:EVENTFROG//EVENT//ICAL
BEGIN:VEVENT
UID:20260419T155228Z-7451190653105504403@eventfrog.ch
DTSTAMP:20260419T155228Z
DTSTART:20260511T173000Z
SUMMARY:Konzertabend Flöte und Gitarre
DESCRIPTION:Serafini und Smolarek spielen Werke von Schubert bis Piazzolla in einem Konzert voller Eleganz und Klangfülle.\n\nhttps://eventfrog.ch/en/p/classical-music-operas/classical-music/konzertabend-floete-und-gitarre-7451190653105504403.html
LOCATION:Markuskirche Luzern
GEO:47.055261;8.316448
URL:https://eventfrog.ch/en/p/classical-music-operas/classical-music/konzertabend-floete-und-gitarre-7451190653105504403.html
END:VEVENT
END:VCALENDAR