BEGIN:VCALENDAR
VERSION:2.0
PRODID:EVENTFROG//EVENT//ICAL
BEGIN:VEVENT
UID:20260425T154256Z-7451271408565374457@eventfrog.ch
DTSTAMP:20260425T154256Z
DTSTART:20260620T090000Z
DTEND:20260620T150000Z
SUMMARY:Tag der offenen Tür
DESCRIPTION:Ein Haus. Ein Konzept. Ganzheitliche Gesundheit.\n\nhttps://eventfrog.ch/de/p/gesundheit-spiritualitaet/gesundheit-wohlbefinden/tag-der-offenen-tuer-7451271408565374457.html
LOCATION:Schwellbrunn
GEO:47.354580;9.246119
URL:https://eventfrog.ch/de/p/gesundheit-spiritualitaet/gesundheit-wohlbefinden/tag-der-offenen-tuer-7451271408565374457.html
END:VEVENT
END:VCALENDAR