BEGIN:VCALENDAR
VERSION:2.0
PRODID:EVENTFROG//EVENT//ICAL
BEGIN:VEVENT
UID:20260419T184409Z-7451322640331967752@eventfrog.ch
DTSTAMP:20260419T184409Z
DTSTART:20260609T173000Z
DTEND:20260609T193000Z
SUMMARY:Musica Palatina beginnt neues Projekt
DESCRIPTION:Musica Palatina beginnt neues Projekt. Am 14. Juni 2026 gestaltet Musica Palatina im Kloster St. Magdalena in Speyer ein Choralamt mit gregorianischen Gesängen.\n\nhttps://eventfrog.ch/de/p/kurse-seminare/musik-tanz/musica-palatina-beginnt-neues-projekt-7451322640331967752.html
LOCATION:Rheingönheim / Speyer
URL:https://eventfrog.ch/de/p/kurse-seminare/musik-tanz/musica-palatina-beginnt-neues-projekt-7451322640331967752.html
END:VEVENT
END:VCALENDAR