BEGIN:VCALENDAR
VERSION:2.0
PRODID:EVENTFROG//EVENT//ICAL
BEGIN:VEVENT
UID:20260425T162021Z-7451389008381237129@eventfrog.ch
DTSTAMP:20260425T162021Z
DTSTART:20260530T210000Z
SUMMARY:Morpheo: Noée & Etepepete
DESCRIPTION:Morpheo: Noée & Etepepete\n\nhttps://eventfrog.ch/de/p/partys/morpheo-noee-etepepete-7451389008381237129.html
LOCATION:Albani
GEO:47.498480;8.729190
URL:https://eventfrog.ch/de/p/partys/morpheo-noee-etepepete-7451389008381237129.html
END:VEVENT
END:VCALENDAR