BEGIN:VCALENDAR
VERSION:2.0
PRODID:EVENTFROG//EVENT//ICAL
BEGIN:VEVENT
UID:20260424T215917Z-7451389897728855946@eventfrog.ch
DTSTAMP:20260424T215917Z
DTSTART:20261111T190000Z
SUMMARY:Charles Nguela
DESCRIPTION:Charles Nguela\n\nhttps://eventfrog.ch/de/p/theater-buehne/charles-nguela-7451389897728855946.html
LOCATION:Casinotheater
GEO:47.499716;8.726641
URL:https://eventfrog.ch/de/p/theater-buehne/charles-nguela-7451389897728855946.html
END:VEVENT
END:VCALENDAR