BEGIN:VCALENDAR
VERSION:2.0
PRODID:EVENTFROG//EVENT//ICAL
BEGIN:VEVENT
UID:20260419T152753Z-7451389998643841061@eventfrog.ch
DTSTAMP:20260419T152753Z
DTSTART:20260621T140000Z
SUMMARY:Im Spannungsfeld der Gegensätze
DESCRIPTION:Im Spannungsfeld der Gegensätze\n\nhttps://eventfrog.ch/de/p/kunst-ausstellungen/im-spannungsfeld-der-gegensaetze-7451389998643841061.html
LOCATION:Villa Claudia
GEO:47.239641;9.600151
URL:https://eventfrog.ch/de/p/kunst-ausstellungen/im-spannungsfeld-der-gegensaetze-7451389998643841061.html
END:VEVENT
END:VCALENDAR