BEGIN:VCALENDAR
VERSION:2.0
PRODID:EVENTFROG//EVENT//ICAL
BEGIN:VEVENT
UID:20260425T152114Z-7451391162873566916@eventfrog.ch
DTSTAMP:20260425T152114Z
DTSTART:20260527T180000Z
SUMMARY:The Amy Winehouse Band
DESCRIPTION:Hommage der einstigen Originalband.\n\nhttps://eventfrog.ch/de/p/konzerte/the-amy-winehouse-band-7451391162873566916.html
LOCATION:Conrad Sohm
GEO:47.393842;9.766422
URL:https://eventfrog.ch/de/p/konzerte/the-amy-winehouse-band-7451391162873566916.html
END:VEVENT
END:VCALENDAR