BEGIN:VCALENDAR
VERSION:2.0
PRODID:EVENTFROG//EVENT//ICAL
BEGIN:VEVENT
UID:20260425T163951Z-7451391358458186233@eventfrog.ch
DTSTAMP:20260425T163951Z
DTSTART:20260430T170000Z
DTEND:20260430T180000Z
SUMMARY:After-Work-Führung durch die Ausstellung «Film ab! – 100 Jah
DESCRIPTION:After-Work-Führung durch die Ausstellung «Film ab! - 100 Jahre Kino Schwanen»\n\nhttps://eventfrog.ch/de/p/wissenschaft-und-technik/after-work-fuehrung-durch-die-ausstellung-film-ab-100-jah-7451391358458186233.html
LOCATION:Kulturhaus Obere Stube
GEO:47.659374;8.860269
URL:https://eventfrog.ch/de/p/wissenschaft-und-technik/after-work-fuehrung-durch-die-ausstellung-film-ab-100-jah-7451391358458186233.html
END:VEVENT
END:VCALENDAR