BEGIN:VCALENDAR
VERSION:2.0
PRODID:EVENTFROG//EVENT//ICAL
BEGIN:VEVENT
UID:20260419T140814Z-7451392141635387245@eventfrog.ch
DTSTAMP:20260419T140814Z
DTSTART:20260522T144500Z
SUMMARY:Siri Hustvedt – Dance Around the Self
DESCRIPTION:Bewegendes Porträt der grossen Autorin und Essayistin.\n\nhttps://eventfrog.ch/de/p/freizeit-ausfluege/siri-hustvedt-dance-around-the-self-7451392141635387245.html
LOCATION:Kinok – Cinema in der Lokremise
GEO:47.421287;9.366104
URL:https://eventfrog.ch/de/p/freizeit-ausfluege/siri-hustvedt-dance-around-the-self-7451392141635387245.html
END:VEVENT
END:VCALENDAR