BEGIN:VCALENDAR
VERSION:2.0
PRODID:EVENTFROG//EVENT//ICAL
BEGIN:VEVENT
UID:20260420T050732Z-7451392945368906488@eventfrog.ch
DTSTAMP:20260420T050732Z
DTSTART:20260905T143000Z
DTEND:20260905T153000Z
SUMMARY:Rappi-Jona klingt
DESCRIPTION:Rappi-Jona klingt\n\nhttps://eventfrog.ch/de/p/konzerte/rappi-jona-klingt-7451392945368906488.html
LOCATION:Curtiplatz
GEO:47.226400;8.813780
URL:https://eventfrog.ch/de/p/konzerte/rappi-jona-klingt-7451392945368906488.html
END:VEVENT
END:VCALENDAR