BEGIN:VCALENDAR
VERSION:2.0
PRODID:EVENTFROG//EVENT//ICAL
BEGIN:VEVENT
UID:20260419T155226Z-7451533930254078731@eventfrog.ch
DTSTAMP:20260419T155226Z
DTSTART:20260614T083000Z
DTEND:20260614T100000Z
SUMMARY:Rhythmus im Blut
DESCRIPTION:Das Sinfonische Orchester Wil spielt unter Hugo Bollschweiler Werke ein temperamentvolles Konzertprogramm.\n\nhttps://eventfrog.ch/de/p/klassik-opern/klassik/rhythmus-im-blut-7451533930254078731.html
LOCATION:Lindensaal Flawil
GEO:47.411010;9.195730
URL:https://eventfrog.ch/de/p/klassik-opern/klassik/rhythmus-im-blut-7451533930254078731.html
END:VEVENT
END:VCALENDAR