BEGIN:VCALENDAR
VERSION:2.0
PRODID:EVENTFROG//EVENT//ICAL
BEGIN:VEVENT
UID:20260419T233112Z-7451536857798562866@eventfrog.ch
DTSTAMP:20260419T233112Z
DTSTART:20260502T153000Z
DTEND:20260502T163000Z
SUMMARY:Geneva Comedy Walking Tour
DESCRIPTION:Join Croy for a 1-hour comedy walking tour through Geneva's iconic sites with stories about immigrant life in Switzerland and brutally honest marriage jokes.\n\nhttps://eventfrog.ch/en/p/guided-tours-lectures/city-tour/geneva-comedy-walking-tour-7451536857798562866.html
LOCATION:Brunswick Monument
GEO:46.208462;6.148979
URL:https://eventfrog.ch/en/p/guided-tours-lectures/city-tour/geneva-comedy-walking-tour-7451536857798562866.html
END:VEVENT
END:VCALENDAR