BEGIN:VCALENDAR
VERSION:2.0
PRODID:EVENTFROG//EVENT//ICAL
BEGIN:VEVENT
UID:20260419T133139Z-7451561543794195340@eventfrog.ch
DTSTAMP:20260419T133139Z
DTSTART:20260421T170000Z
DTEND:20260421T170000Z
SUMMARY:Gratis Darbuka Lektion
DESCRIPTION:Komm vorbei und trommle mit uns! Erlebe eine kostenlose Darbuka-Lektion, bei der alle herzlich willkommen sind :-)\n\nhttps://eventfrog.ch/de/p/musicals-shows/musical/gratis-darbuka-lektion-7451561543794195340.html
LOCATION:Darbuka Art
GEO:47.376322;8.514206
URL:https://eventfrog.ch/de/p/musicals-shows/musical/gratis-darbuka-lektion-7451561543794195340.html
END:VEVENT
END:VCALENDAR