BEGIN:VCALENDAR
VERSION:2.0
PRODID:EVENTFROG//EVENT//ICAL
BEGIN:VEVENT
UID:20260420T024351Z-7451577837608291802@eventfrog.ch
DTSTAMP:20260420T024351Z
DTSTART:20260507T163000Z
DTEND:20260507T200000Z
SUMMARY:HipHop Dance Battle Show
DESCRIPTION:Die neue HipHop Dance Battles Show in Wien. Das Publik entscheidet.\n\nhttps://eventfrog.ch/de/p/partys/hip-hop-rap/hiphop-dance-battle-show-7451577837608291802.html
LOCATION:IL TORO Bar
GEO:48.214732;16.371361
URL:https://eventfrog.ch/de/p/partys/hip-hop-rap/hiphop-dance-battle-show-7451577837608291802.html
END:VEVENT
END:VCALENDAR