BEGIN:VCALENDAR
VERSION:2.0
PRODID:EVENTFROG//EVENT//ICAL
BEGIN:VEVENT
UID:20260424T075614Z-7451636902917078737@eventfrog.ch
DTSTAMP:20260424T075614Z
DTSTART:20261101T083000Z
DTEND:20261101T094500Z
SUMMARY:Lu Jong am Sonntag - Meditation in Bewegung
DESCRIPTION:Lu Jong verbindet sanfte Bewegungen und Atmung zur Förderung von Wohlbefinden und innerer Balance für alle Altersgruppen.\n\nhttps://eventfrog.ch/de/p/gesundheit-spiritualitaet/gesundheit-wohlbefinden/lu-jong-am-sonntag-meditation-in-bewegung-7451636902917078737.html
LOCATION:yoga grenzenlos
GEO:47.654079;9.173242
URL:https://eventfrog.ch/de/p/gesundheit-spiritualitaet/gesundheit-wohlbefinden/lu-jong-am-sonntag-meditation-in-bewegung-7451636902917078737.html
END:VEVENT
END:VCALENDAR