BEGIN:VCALENDAR
VERSION:2.0
PRODID:EVENTFROG//EVENT//ICAL
BEGIN:VEVENT
UID:20260419T235847Z-7451661081372570540@eventfrog.ch
DTSTAMP:20260419T235847Z
DTSTART:20260530T210000Z
DTEND:20260531T030000Z
SUMMARY:BUNNY X DREAMS
DESCRIPTION:Deux univers fusionnent le temps d’une nuit.\nSamedi 30 mai 2026 à l’Uptown!\n\nLe perreo latino de BUNNY rencontre l’énergie urbaine de DREAMS pour une collaboration inédite.\n\nhttps://eventfrog.ch/fr/p/soirees-fetes/latino-bresil/bunny-x-dreams-7451661081372570540.html
LOCATION:Uptown Geneva
GEO:46.209307;6.139701
URL:https://eventfrog.ch/fr/p/soirees-fetes/latino-bresil/bunny-x-dreams-7451661081372570540.html
END:VEVENT
END:VCALENDAR