BEGIN:VCALENDAR
VERSION:2.0
PRODID:EVENTFROG//EVENT//ICAL
BEGIN:VEVENT
UID:20260419T235845Z-7451693305824321594@eventfrog.ch
DTSTAMP:20260419T235845Z
DTSTART:20260513T210000Z
DTEND:20260514T030000Z
SUMMARY:BIGGEST x 7VEN DRIP
DESCRIPTION:️ Mercredi 13 mai (veille de jour férié) \n\nC’est le retour de la 7vendrip  en collab avec la BIGGEST à l’Uptown de Genève  \n\nUn mélange explosif avec le meilleur du rap français & afro  \n\nhttps://eventfrog.ch/fr/p/soirees-fetes/hip-hop-rap/biggest-x-7ven-drip-7451693305824321594.html
LOCATION:Uptown Geneva
GEO:46.209307;6.139701
URL:https://eventfrog.ch/fr/p/soirees-fetes/hip-hop-rap/biggest-x-7ven-drip-7451693305824321594.html
END:VEVENT
END:VCALENDAR