BEGIN:VCALENDAR
VERSION:2.0
PRODID:EVENTFROG//EVENT//ICAL
BEGIN:VEVENT
UID:20260419T233854Z-7451695547583342018@eventfrog.ch
DTSTAMP:20260419T233854Z
DTSTART:20260422T180000Z
DTEND:20260422T210000Z
SUMMARY:Yoto Concerts x Kreisky - Adieu Unsterblichkeit Tour 2026
DESCRIPTION:Kreisky spielt ab 20 Uhr in Hamburg Live Songs vom Album «Adieu Unsterblichkeit» mit Tiefgang und Wucht.\n\nhttps://eventfrog.ch/de/p/konzerte/indie-alternative/yoto-concerts-x-kreisky-adieu-unsterblichkeit-tour-2026-7451695547583342018.html
LOCATION:Yoto
GEO:53.562347;9.961065
URL:https://eventfrog.ch/de/p/konzerte/indie-alternative/yoto-concerts-x-kreisky-adieu-unsterblichkeit-tour-2026-7451695547583342018.html
END:VEVENT
END:VCALENDAR