BEGIN:VCALENDAR
VERSION:2.0
PRODID:EVENTFROG//EVENT//ICAL
BEGIN:VEVENT
UID:20260424T081819Z-7451698121292157740@eventfrog.ch
DTSTAMP:20260424T081819Z
DTSTART:20260611T220000Z
DTEND:20260613T220000Z
SUMMARY:Fischessen beim  Limmat-Club Baden
DESCRIPTION:Feine Fischfilets im Bierteig direkt an der Limmat\n\nhttps://eventfrog.ch/de/p/essen-trinken/fischessen-beim-limmat-club-baden-7451698121292157740.html
LOCATION:Bootshaus
GEO:47.466758;8.308778
URL:https://eventfrog.ch/de/p/essen-trinken/fischessen-beim-limmat-club-baden-7451698121292157740.html
END:VEVENT
END:VCALENDAR