BEGIN:VCALENDAR
VERSION:2.0
PRODID:EVENTFROG//EVENT//ICAL
BEGIN:VEVENT
UID:20260424T163905Z-7451718647326737683@eventfrog.ch
DTSTAMP:20260424T163905Z
DTSTART:20270109T170000Z
DTEND:20270109T210000Z
SUMMARY:Bluthochzeit im Western-Puff – Krimidinner Steinhude
DESCRIPTION:Am 9.1. in Steinhude erleben Sie ein interaktives Krimi-Dinner «Bluthochzeit im Western-Puff» mit exklusivem Menü.\n\nhttps://eventfrog.ch/de/p/theater-buehne/theater/bluthochzeit-im-western-puff-krimidinner-steinhude-7451718647326737683.html
LOCATION:Steinhuder Strandterrassen
GEO:52.452630;9.349720
URL:https://eventfrog.ch/de/p/theater-buehne/theater/bluthochzeit-im-western-puff-krimidinner-steinhude-7451718647326737683.html
END:VEVENT
END:VCALENDAR