BEGIN:VCALENDAR
VERSION:2.0
PRODID:EVENTFROG//EVENT//ICAL
BEGIN:VEVENT
UID:20260424T072140Z-7451753059909150004@eventfrog.ch
DTSTAMP:20260424T072140Z
DTSTART:20260509T180000Z
SUMMARY:The Garlicks & The Fucking Thinking Butt-Hell Earshackers II
DESCRIPTION:Hardrock & Indie.\n\nhttps://eventfrog.ch/de/p/konzerte/the-garlicks-the-fucking-thinking-butt-hell-earshackers-ii-7451753059909150004.html
LOCATION:Toms Beer Box
GEO:46.848764;9.530459
URL:https://eventfrog.ch/de/p/konzerte/the-garlicks-the-fucking-thinking-butt-hell-earshackers-ii-7451753059909150004.html
END:VEVENT
END:VCALENDAR