BEGIN:VCALENDAR
VERSION:2.0
PRODID:EVENTFROG//EVENT//ICAL
BEGIN:VEVENT
UID:20260424T072135Z-7451753060253082947@eventfrog.ch
DTSTAMP:20260424T072135Z
DTSTART:20260521T180000Z
SUMMARY:Argies
DESCRIPTION:Skapunk und libertäre Poesie aus Argentinien.\n\nhttps://eventfrog.ch/de/p/konzerte/argies-7451753060253082947.html
LOCATION:Toms Beer Box
GEO:46.848764;9.530459
URL:https://eventfrog.ch/de/p/konzerte/argies-7451753060253082947.html
END:VEVENT
END:VCALENDAR