BEGIN:VCALENDAR
VERSION:2.0
PRODID:EVENTFROG//EVENT//ICAL
BEGIN:VEVENT
UID:20260420T050732Z-7451754015140907074@eventfrog.ch
DTSTAMP:20260420T050732Z
DTSTART:20260509T183000Z
SUMMARY:Dave Ruosch Trio feat. Hamp Goes Wild
DESCRIPTION:Rhythm and Blues Night.\n\nhttps://eventfrog.ch/de/p/konzerte/dave-ruosch-trio-feat-hamp-goes-wild-7451754015140907074.html
LOCATION:Zak
GEO:47.232050;8.834330
URL:https://eventfrog.ch/de/p/konzerte/dave-ruosch-trio-feat-hamp-goes-wild-7451754015140907074.html
END:VEVENT
END:VCALENDAR