BEGIN:VCALENDAR
VERSION:2.0
PRODID:EVENTFROG//EVENT//ICAL
BEGIN:VEVENT
UID:20260424T073653Z-7451827191791227039@eventfrog.ch
DTSTAMP:20260424T073653Z
DTSTART:20270213T090000Z
DTEND:20270214T170000Z
SUMMARY:Grundlagen der energetischen Heilung, Teil 4/4 (Sa & So)
DESCRIPTION:Ganzheitliche Heilung: Der Weg zu deinem wahren Selbst\nHeilung erfordert eine harmonische Verbindung von Geist, Emotionen, Körper und Energie für nachhaltige Veränderung.\n\nhttps://eventfrog.ch/de/p/gesundheit-spiritualitaet/gesundheit-wohlbefinden/grundlagen-der-energetischen-heilung-teil-4-4-sa-so-7451827191791227039.html
LOCATION:RUUM 8
GEO:47.227448;8.674305
URL:https://eventfrog.ch/de/p/gesundheit-spiritualitaet/gesundheit-wohlbefinden/grundlagen-der-energetischen-heilung-teil-4-4-sa-so-7451827191791227039.html
END:VEVENT
END:VCALENDAR