BEGIN:VCALENDAR
VERSION:2.0
PRODID:EVENTFROG//EVENT//ICAL
BEGIN:VEVENT
UID:20260424T183658Z-7451880750356395352@eventfrog.ch
DTSTAMP:20260424T183658Z
DTSTART:20260530T123000Z
DTEND:20260530T140000Z
SUMMARY:Die Luzerner Akademie der Künste – Tribut an Scheitlin
DESCRIPTION:Am 30. Mai 2026 feiert die AdK ihr 80-jähriges Jubiläum mit einer festlichen Jahresaufführung.\n\nhttps://eventfrog.ch/en/p/theatre-stage/dance/die-luzerner-akademie-der-kuenste-tribut-an-scheitlin-7451880750356395352.html
LOCATION:Theater Pavillon Luzern
GEO:47.042581;8.319478
URL:https://eventfrog.ch/en/p/theatre-stage/dance/die-luzerner-akademie-der-kuenste-tribut-an-scheitlin-7451880750356395352.html
END:VEVENT
END:VCALENDAR