BEGIN:VCALENDAR
VERSION:2.0
PRODID:EVENTFROG//EVENT//ICAL
BEGIN:VEVENT
UID:20260424T075630Z-7451896974868004573@eventfrog.ch
DTSTAMP:20260424T075630Z
DTSTART:20260504T080000Z
DTEND:20260504T103000Z
SUMMARY:Personal Branding That Feels Like You
DESCRIPTION:Build an authentic personal brand: clarify what you’re known for and create a clear value message + achievement stories you can use in CV/LinkedIn, networking, outreach and daily communication.\n\nhttps://eventfrog.ch/de/p/kurse-seminare/sonstige-kurse-seminare/personal-branding-that-feels-like-you-7451896974868004573.html
LOCATION:Startup Academy
GEO:47.553359;7.595418
URL:https://eventfrog.ch/de/p/kurse-seminare/sonstige-kurse-seminare/personal-branding-that-feels-like-you-7451896974868004573.html
END:VEVENT
END:VCALENDAR