BEGIN:VCALENDAR
VERSION:2.0
PRODID:EVENTFROG//EVENT//ICAL
BEGIN:VEVENT
UID:20260424T051559Z-7451914420748338352@eventfrog.ch
DTSTAMP:20260424T051559Z
DTSTART:20260429T183000Z
DTEND:20260429T200000Z
SUMMARY:My Comedy Hall
DESCRIPTION:Une soirée explosive avec des humoristes issus du Jamel Comedy Club \nAu programme : humour, énergie et performances uniques pour un moment 100 % rire !\n\nhttps://eventfrog.ch/fr/p/comedies-musicales-spectacles/spectacle/my-comedy-hall-7451914420748338352.html
LOCATION:Uptown Geneva
GEO:46.209307;6.139701
URL:https://eventfrog.ch/fr/p/comedies-musicales-spectacles/spectacle/my-comedy-hall-7451914420748338352.html
END:VEVENT
END:VCALENDAR