BEGIN:VCALENDAR
VERSION:2.0
PRODID:EVENTFROG//EVENT//ICAL
BEGIN:VEVENT
UID:20260425T172814Z-7451928339185423949@eventfrog.ch
DTSTAMP:20260425T172814Z
DTSTART:20260530T173000Z
DTEND:20260530T183000Z
SUMMARY:Orchester Lyss- Melodien aus Film und Musical
DESCRIPTION:Das Orchester Lyss spielt unter Johannes Kofler bekannte Melodien aus Film und Musical wie Harry Potter und Titanic.\n\nhttps://eventfrog.ch/de/p/klassik-opern/klassik/orchester-lyss-melodien-aus-film-und-musical-7451928339185423949.html
LOCATION:Ref. Kirche Lyss
GEO:47.070370;7.307940
URL:https://eventfrog.ch/de/p/klassik-opern/klassik/orchester-lyss-melodien-aus-film-und-musical-7451928339185423949.html
END:VEVENT
END:VCALENDAR