BEGIN:VCALENDAR
VERSION:2.0
PRODID:EVENTFROG//EVENT//ICAL
BEGIN:VEVENT
UID:20260424T083032Z-7451984636912112206@eventfrog.ch
DTSTAMP:20260424T083032Z
DTSTART:20270204T100000Z
DTEND:20270204T160000Z
SUMMARY:«HAP Grieshaber – Einschnitt  Ausdruck. Sammlung Würth»
DESCRIPTION:Das Forum Würth Arlesheim widmet HAP Grieshaber (1909–1981) mit «Einschnitt  Ausdruck» die erste Einzelausstellung aus der Sammlung Würth in der Schweiz.\n\nhttps://eventfrog.ch/de/p/kunst-ausstellungen/ausstellung/hap-grieshaber-einschnitt-ausdruck-sammlung-wuerth-7451984636912112206.html
LOCATION:Forum Würth Arlesheim
GEO:47.497009;7.607158
URL:https://eventfrog.ch/de/p/kunst-ausstellungen/ausstellung/hap-grieshaber-einschnitt-ausdruck-sammlung-wuerth-7451984636912112206.html
END:VEVENT
END:VCALENDAR