BEGIN:VCALENDAR
VERSION:2.0
PRODID:EVENTFROG//EVENT//ICAL
BEGIN:VEVENT
UID:20260424T053229Z-7451984834904249389@eventfrog.ch
DTSTAMP:20260424T053229Z
DTSTART:20260503T130000Z
DTEND:20260503T130000Z
SUMMARY:Workshop für Familien mit Kindern: Ein Armband mit Farbcode
DESCRIPTION:In «Die Eule ist pink» entdecken Teilnehmende Farben mit allen Sinnen. Danach gestalten sie aus bunten Perlen ein Armband mit persönlichem Farbcode. Anmeldung erforderlich.\n\nhttps://eventfrog.ch/de/p/kunst-ausstellungen/weitere-kunstveranstaltungen/workshop-fuer-familien-mit-kindern-ein-armband-mit-farbcode-7451984834904249389.html
LOCATION:Museum der Kulturen Basel
GEO:47.557200;7.590650
URL:https://eventfrog.ch/de/p/kunst-ausstellungen/weitere-kunstveranstaltungen/workshop-fuer-familien-mit-kindern-ein-armband-mit-farbcode-7451984834904249389.html
END:VEVENT
END:VCALENDAR