BEGIN:VCALENDAR
VERSION:2.0
PRODID:EVENTFROG//EVENT//ICAL
BEGIN:VEVENT
UID:20260424T072143Z-7451987476288113187@eventfrog.ch
DTSTAMP:20260424T072143Z
DTSTART:20260807T163000Z
DTEND:20260807T193000Z
SUMMARY:SOUL BHAKTI: Singing Circle
DESCRIPTION:Soul Bhakti ist ein Kreis für Gesang, Gebet und Heilung mit Livio, Nik und Miriam; alle Stimmen sind willkommen.\n\nhttps://eventfrog.ch/en/p/health-spirituality/spirituality/soul-bhakti-singing-circle-7451987476288113187.html
LOCATION:Soul City
GEO:47.377890;8.529110
URL:https://eventfrog.ch/en/p/health-spirituality/spirituality/soul-bhakti-singing-circle-7451987476288113187.html
END:VEVENT
END:VCALENDAR