BEGIN:VCALENDAR
VERSION:2.0
PRODID:EVENTFROG//EVENT//ICAL
BEGIN:VEVENT
UID:20260424T065319Z-7451990995934130687@eventfrog.ch
DTSTAMP:20260424T065319Z
DTSTART:20260912T120000Z
DTEND:20260912T160000Z
SUMMARY:OFFENE ATELIERS RHEINFELDEN & REGION 2026
DESCRIPTION:Die OFFENEN ATELIERS zeigen die vielfältige Kunstszene von Rheinfelden und Region mit Einblicken in die Ateliers der Künstler.\n\nhttps://eventfrog.ch/de/p/kunst-ausstellungen/ausstellung/offene-ateliers-rheinfelden-region-2026-7451990995934130687.html
LOCATION:RHEINFELDEN & REGION
GEO:47.552190;7.792291
URL:https://eventfrog.ch/de/p/kunst-ausstellungen/ausstellung/offene-ateliers-rheinfelden-region-2026-7451990995934130687.html
END:VEVENT
END:VCALENDAR