BEGIN:VCALENDAR
VERSION:2.0
PRODID:EVENTFROG//EVENT//ICAL
BEGIN:VEVENT
UID:20260424T064845Z-7451992297988742921@eventfrog.ch
DTSTAMP:20260424T064845Z
DTSTART:20260510T170000Z
DTEND:20260510T183000Z
SUMMARY:Ukrainian Poem
DESCRIPTION:Oleksandra Fedosova und Stefan Kägi spielen zeitgenössische ukrainische Musik sowie klassische Werke und verbinden diese mit Gedichten ukrainischer Schriftsteller.\n\nhttps://eventfrog.ch/de/p/klassik-opern/klassik/ukrainian-poem-7451992297988742921.html
LOCATION:Reformierte Kirche Oberrieden
GEO:47.277153;8.576653
URL:https://eventfrog.ch/de/p/klassik-opern/klassik/ukrainian-poem-7451992297988742921.html
END:VEVENT
END:VCALENDAR