BEGIN:VCALENDAR
VERSION:2.0
PRODID:EVENTFROG//EVENT//ICAL
BEGIN:VEVENT
UID:20260424T081829Z-7452001234909669753@eventfrog.ch
DTSTAMP:20260424T081829Z
DTSTART:20260509T180000Z
DTEND:20260509T230000Z
SUMMARY:Jahreskonzert Musikgesellschaft Schönenwerd /Magic Moments
DESCRIPTION:Die Musikgesellschaft verzaubert mit Blasmusik "Magic Moments" unter Markus Moser. Ab 19 Uhr gibt es Kartoffelsalat und Schinken.\n\nhttps://eventfrog.ch/de/p/konzerte/blasmusik/jahreskonzert-musikgesellschaft-schoenenwerd-magic-moments-7452001234909669753.html
LOCATION:Casino Saal Schönenwerd
GEO:47.371639;8.001924
URL:https://eventfrog.ch/de/p/konzerte/blasmusik/jahreskonzert-musikgesellschaft-schoenenwerd-magic-moments-7452001234909669753.html
END:VEVENT
END:VCALENDAR