BEGIN:VCALENDAR
VERSION:2.0
PRODID:EVENTFROG//EVENT//ICAL
BEGIN:VEVENT
UID:20260426T013924Z-7452026019958028824@eventfrog.ch
DTSTAMP:20260426T013924Z
DTSTART:20260503T150000Z
DTEND:20260503T161500Z
SUMMARY:«Vive la danse»
DESCRIPTION:Nicole Pürro und Matthias Kipfer interpretieren virtuos Tanzmusik aus West- und Osteuropa am 3. Mai 2026, 17 Uhr. Eintritt frei.\n\nhttps://eventfrog.ch/de/p/konzerte/weitere-musikrichtungen/vive-la-danse-7452026019958028824.html
LOCATION:kulturplatz strengelbach in der Johanneskirche
GEO:47.276333;7.932964
URL:https://eventfrog.ch/de/p/konzerte/weitere-musikrichtungen/vive-la-danse-7452026019958028824.html
END:VEVENT
END:VCALENDAR