BEGIN:VCALENDAR
VERSION:2.0
PRODID:EVENTFROG//EVENT//ICAL
BEGIN:VEVENT
UID:20260425T163952Z-7452043255477198802@eventfrog.ch
DTSTAMP:20260425T163952Z
DTSTART:20260503T110000Z
DTEND:20260503T150000Z
SUMMARY:Brunchata Day Social
DESCRIPTION:Bachata Day Social mit Workshop und  kleinem Brunchbuffet.\n\nhttps://eventfrog.ch/de/p/partys/latin-brasil/brunchata-day-social-7452043255477198802.html
LOCATION:Ruum2B
GEO:47.503935;8.764247
URL:https://eventfrog.ch/de/p/partys/latin-brasil/brunchata-day-social-7452043255477198802.html
END:VEVENT
END:VCALENDAR