BEGIN:VCALENDAR
VERSION:2.0
PRODID:EVENTFROG//EVENT//ICAL
BEGIN:VEVENT
UID:20260424T065729Z-7452064380563284113@eventfrog.ch
DTSTAMP:20260424T065729Z
DTSTART:20260502T093000Z
DTEND:20260502T120000Z
SUMMARY:Pasta-Plausch der Jungschar Brittnau
DESCRIPTION:Die CEVI Jungschar Brittnau lädt zum Pasta-Plausch mit leckeren hausgemachten Saucen ein. Das Essen wird serviert von TeilnehmerInnen, LeiterInnen und Ehemaligen der Jungschi Brittnau.\n\nhttps://eventfrog.ch/de/p/essen-trinken/pasta-plausch-der-jungschar-brittnau-7452064380563284113.html
LOCATION:Kirchgemeindehaus Brittnau
GEO:47.258581;7.948348
URL:https://eventfrog.ch/de/p/essen-trinken/pasta-plausch-der-jungschar-brittnau-7452064380563284113.html
END:VEVENT
END:VCALENDAR