BEGIN:VCALENDAR
VERSION:2.0
PRODID:EVENTFROG//EVENT//ICAL
BEGIN:VEVENT
UID:20260424T075617Z-7452075529266543004@eventfrog.ch
DTSTAMP:20260424T075617Z
DTSTART:20260530T190000Z
DTEND:20260531T000000Z
SUMMARY:NOICE
DESCRIPTION:Am 30. Mai spielen Collective Dream und Fredi Hauser ab 21 Uhr Techhouse bis Psytech im Bahnhöfli Pub Boswil. Eintritt frei.\n\nhttps://eventfrog.ch/de/p/partys/electro/noice-7452075529266543004.html
LOCATION:Bahnhöfli Pub
GEO:47.305062;8.315971
URL:https://eventfrog.ch/de/p/partys/electro/noice-7452075529266543004.html
END:VEVENT
END:VCALENDAR