BEGIN:VCALENDAR
VERSION:2.0
PRODID:EVENTFROG//EVENT//ICAL
BEGIN:VEVENT
UID:20260424T035344Z-7452103243612617220@eventfrog.ch
DTSTAMP:20260424T035344Z
DTSTART:20260423T220000Z
DTEND:20260426T215900Z
SUMMARY:Back to Her - VIP Waitlist
DESCRIPTION:Join the VIP list for the Back to Her program, a 7-week live online program for women only to boost confidence, lose weight, sleep better, and wake up refreshed and clear minded.\n\nhttps://eventfrog.ch/en/p/health-spirituality/health-wellbeing/back-to-her-vip-waitlist-7452103243612617220.html
LOCATION:Online-Event
URL:https://eventfrog.ch/en/p/health-spirituality/health-wellbeing/back-to-her-vip-waitlist-7452103243612617220.html
END:VEVENT
END:VCALENDAR